BEGIN:VCALENDAR
VERSION:2.0
BEGIN:VEVENT
UID:14C38E5D-170B-428D-82DD-AD9A87BFB626
DTSTART:20231124T090000Z
DTEND:20231124T150000Z
SUMMARY:Duke Spirits and Coffee tastings
DESCRIPTION:Enhance your visit to John Wayne: An American Experience by exp
 loring the museum when Duke Spirits and Gold Handle Coffee are offering ta
 stings in John Wayne Stock & Supply\, the flagship retail shop located adj
 acent to the museum. \nGuests will enjoy cocktail samples featuring Duke S
 pirits tequila and bourbon using recipes from John Wayne: The Official Coc
 ktail Book from 11 a.m. to 3 p.m. \nGold Handle Coffee\, which offers care
 fully curated coffee blends\, is named after a traditional gift presented
  by Wayne to the cast and crew of the movies he made. \nSampling of Gold H
 andle Coffee\, which offers carefully curated coffee blends\, will take pl
 ace from 9 to 11 a.m. on tasting days. Gold Handle Coffee is named after a
  traditional gift presented by Wayne to the cast and crew of the movies he
  made. \nTasting events are as follows: PBR Rattler Day Parade: Oct. 7 \nJ
 ohn Wayne: An American Experience will participate in the parade and offer
  sampling to celebrate the PBR’s presence in the Stockyards. Red Steagall
  Cowboy Gathering: Oct. 28 \nVisit the museum while you’re in the Stockyar
 ds for this annual authentic cowboy experience. John Wayne Grit Series: No
 v. 11 \nThis is a big day in the Stockyards. Not only will the John Wayne
  Grit Series start and end at John Wayne: An American Experience\, but the
  Stockyards will also be celebrating the Texas Country Music Awards. Cowbo
 y Santa’s Grand Arrival: Nov. 24 \nCowboy Santa arrives in grand fashion i
 n the Stockyards in a parade that follows the 11:30 a.m. Cattle Drive and
  John Wayne: An American Experience will be decked out for the occasion.\n
 Fort Worth Stockyards\n2501 Rodeo Plaza\nFort Worth\, TX 76164 United Stat
 es\n
LOCATION:2501 Rodeo Plaza\, Fort Worth\, TX 76164
URL:http://addison.bubblelife.com/community/shiroma_southwest_1/library/351
 596060/key/3511012994/Duke_Spirits_and_Coffee_tastings
CREATED:20230925T150540Z
LAST-MODIFIED:20230925T150540Z
DTSTAMP:20260419T195736Z
CLASS:PUBLIC
STATUS:CONFIRMED
TRANSP:TRANSPARENT
SEQUENCE:1
END:VEVENT
END:VCALENDAR
