BEGIN:VCALENDAR
VERSION:2.0
BEGIN:VEVENT
UID:88CEE1C8-48A6-4394-AFAC-1CA71D214D79
DTSTART:20250421T110000Z
DTEND:20250421T180000Z
SUMMARY:Sounds of Spring at Galleria Dallas
DESCRIPTION:Galleria Dallas is celebrating the season with Sounds of Spring
  \, a weeklong event in which local choirs\, bands\, thespians\, cheerlead
 ers and dancers will perform. Concerts and performances will take place on
  Level 1\, near Sephora. Groups participating include the SMU Mustang Mave
 ricks\, Grand Prairie High School’s Mariachi Azul\, Alegre Ballet Folklori
 co\, Texas Ballet Theater School and the Booker T. Washington Jazz Singers
 . Visit the galleria website at www.galleriadallas.com for a full schedule
  of events.\nGalleria Dallas\n13350 Dallas Parkway\,\nDallas\, TX 75240 Un
 ited States\n
LOCATION:13350 Dallas Parkway\,\, Dallas\, TX 75240
URL:http://addison.bubblelife.com/community/addison_calendar/library/356744
 01/key/3511307294/Sounds_of_Spring_at_Galleria_Dallas
CREATED:20250408T215333Z
LAST-MODIFIED:20250408T215333Z
DTSTAMP:20260422T235054Z
RRULE:FREQ=DAILY;UNTIL=20250426T000000Z
CLASS:PUBLIC
STATUS:CONFIRMED
TRANSP:TRANSPARENT
SEQUENCE:1
END:VEVENT
END:VCALENDAR
