BEGIN:VCALENDAR
VERSION:2.0
BEGIN:VEVENT
UID:E87312F5-3CE1-45D2-84BB-FAE848FCBBC5
DTSTART:20250415T000000Z
DTEND:20250416T000000Z
SUMMARY:Dan's Bagels Easter Special
DESCRIPTION:Easter is just around the corner and Dan’s Bagels is celebratin
 g with a colorful twist on its signature sourdough bagels. From April 15-2
 0\, the beloved Trophy Club bagel shop will offer a vibrant\, hand-crafted
  Rainbow Bagel perfect for Easter festivities. \n  \nCrafted with the same
  hand-rolled sourdough recipe that has made Dan’s Bagels a local favorite\
 , the Rainbow Bagel is as delicious as it is eye-catching. The Easter vers
 ion is swirled with bright hues of pink\, purple and yellow and can be enj
 oyed on its own or customized with a selection of house-made schmears and
  fresh fixings. \n  \nMade from scratch daily using a recipe developed by
  founder Dan Hilbert in 2020\, the sourdough bagels are crispy\, chewy and
  more flavorful than other bagels. Dan’s Bagels is open from 7 a.m. to 1 p
 .m. Tuesday through Sunday\, closed on Mondays\, at 301 Trophy Lake Drive
  in Trophy Club.\nDan's Bagels\n301 Trophy Lake Drive\nTrophy Club\, TX 76
 262 United States\n
LOCATION:301 Trophy Lake Drive\, Trophy Club\, TX 76262
URL:http://addison.bubblelife.com/community/addison_calendar/library/356744
 01/key/3511307794/Dans_Bagels_Easter_Special
CREATED:20250409T172702Z
LAST-MODIFIED:20250409T172702Z
DTSTAMP:20260422T235054Z
RRULE:FREQ=DAILY;UNTIL=20250420T000000Z;WKST=TU
CLASS:PUBLIC
STATUS:CONFIRMED
TRANSP:TRANSPARENT
SEQUENCE:1
END:VEVENT
END:VCALENDAR
