BEGIN:VCALENDAR
VERSION:2.0
BEGIN:VEVENT
UID:CC9A4F73-6726-4FCF-9135-D13C44A8E6B2
DTSTART:20250420T110000Z
DTEND:20250420T150000Z
SUMMARY:Easter Soiree at Southfork Ranch
DESCRIPTION:On Easter Sunday\, the iconic Southfork Ranch will transform it
 s grand atrium into a festive brunch spot for friends and family. The lavi
 sh destination is hosting an Easter brunch on Sunday\, April 20\, with fou
 r seatings between 11 a.m. and 2 p.m. \nIn addition to the delicious brunc
 h offerings\, a day party at the ranch will feature great music and fun ac
 tivities. Children can embark on exciting Easter egg hunts filled with fun
  surprises after brunch. Curated arts and crafts stations\, as well as a p
 etting farm\, will also be on-site. And remember – don’t go home without t
 aking your 4x6 photo souvenir with the one and only Easter Bunny! \nThe Ea
 ster brunch buffet features three starters and entrée choices of sautéed c
 hicken with roasted red pepper cream sauce and grilled salmon with citrus
  sauce. There will be three carving stations offering prime rib with au ju
 s and horseradish\, smoked Virginia ham and oven-roasted lamb\, an array o
 f side dishes and an enticing array of sweets for dessert. \n  \nBrunch se
 rvice includes assorted juices\, iced water\, tea and coffee. Additional a
 lcoholic and non-alcoholic beverages will be available for purchase. \nTic
 kets for the Easter Brunch are $90 for adults and $50 for children aged 6
  to 12\, plus tax. Kids 5 and younger are admitted for free.\nSouthfork Ra
 nch\n3700 Hogge Dr.\nParker\, TX 75002 United States\n
LOCATION:3700 Hogge Dr.\, Parker\, TX 75002
URL:http://addison.bubblelife.com/community/addison_calendar/library/356744
 01/key/3511308302/Easter_Soiree_at_Southfork_Ranch
CREATED:20250331T213845Z
LAST-MODIFIED:20250331T213845Z
DTSTAMP:20260423T011209Z
CLASS:PUBLIC
STATUS:CONFIRMED
TRANSP:TRANSPARENT
SEQUENCE:1
END:VEVENT
END:VCALENDAR
