BEGIN:VCALENDAR
VERSION:2.0
BEGIN:VEVENT
UID:200C9F33-FF02-4E53-BB74-7FFD3694E9BA
DTSTART:20241215T110000Z
DTEND:20241215T190000Z
SUMMARY:Operation Kindness Pet Adoption at Galleria Dallas
DESCRIPTION:Stop by Galleria Dallas to meet adoptable dogs and cats from Op
 eration Kindness on Level 1 near Banana Republic. \n  \nPet adoptions take
  place during normal business hours Wednesdays through Sundays\, Nov. 29-D
 ec. 24. \n  \nIf you adopt a pet on Wednesdays\, your new friend will get
  free entry to Santaland during Santa Paws. Mark the occasion with an ador
 able photo with Santa and your new pet! Santa Paws takes place on Wednesda
 ys Nov. 27 – Dec. 18 from 6 – 9 p.m. \n  \nPet adoptions will be free duri
 ng shopping hours on Tuesday\, December 24. \n  \nOperation Kindness will
  also be featured on Galleria Dallas’ December Gallery Wall on Level 1 nea
 r Sephora encouraging the community to get involved and donate to the caus
 e.\nGalleria Dallas\n13350 Dallas Parkway\,\nDallas\, TX 75240 United Stat
 es\n
LOCATION:13350 Dallas Parkway\,\, Dallas\, TX 75240
URL:http://addison.bubblelife.com/community/addison_calendar/library/356744
 01/key/3511311121/Operation_Kindness_Pet_Adoption_at_Galleria_Dallas
CREATED:20241121T224238Z
LAST-MODIFIED:20241121T224238Z
DTSTAMP:20260423T014917Z
CLASS:PUBLIC
STATUS:CONFIRMED
TRANSP:TRANSPARENT
SEQUENCE:1
END:VEVENT
END:VCALENDAR
