BEGIN:VCALENDAR
VERSION:2.0
BEGIN:VEVENT
UID:0803627D-D6C8-45E2-8E86-F2A2EE035CD7
DTSTART:20241229T170000Z
DTEND:20241229T180000Z
SUMMARY:Hanukkah Menorah Lighting at Galleria Dallas
DESCRIPTION:Galleria Dallas will recognize an important holiday tradition b
 y lighting a Hanukkah menorah on Sunday\, Dec. 29\, at 5 p.m. \n  \nAt the
  ceremony\, Rabbi Andrew Paley of Temple Shalom will deliver remarks befor
 e he lights the menorah. The lighting will be followed by a performance by
  Kol Shalom\, Temple Shalom’s youth choir\, under the direction of Mandy M
 onreal. Sufganiyot – jelly doughnuts – will be served while supplies last.
  \n  \nHanukkah is an eight-day Jewish festival commemorating the rededica
 tion of the Second Temple in Jerusalem at the time of the Maccabean Revolt
 . The lighting of the Menorah is the most important Hanukkah custom.  Jews
  light Hanukkah candles to remember the miracle of the Maccabees' victory
  and the miracle of the oil that burned for eight days in the holy Temple.
  It is a mitzvah (commandment from God) that Jews "publicize the miracle"
  by lighting a Hanukkah Menorah each night during the eight days of Hanukk
 ah.\nGalleria Dallas\n13350 Dallas Parkway\nDallas\, TX 75240 United State
 s\n
LOCATION:13350 Dallas Parkway\, Dallas\, TX 75240
URL:http://addison.bubblelife.com/community/addison_calendar/library/356744
 01/key/3511311171/Hanukkah_Menorah_Lighting_at_Galleria_Dallas
CREATED:20241121T223557Z
LAST-MODIFIED:20241121T223557Z
DTSTAMP:20260423T001819Z
CLASS:PUBLIC
STATUS:CONFIRMED
TRANSP:TRANSPARENT
SEQUENCE:1
END:VEVENT
END:VCALENDAR
