BEGIN:VCALENDAR
VERSION:2.0
BEGIN:VEVENT
UID:B12921CB-1323-4D05-91C0-B885DBDCFBDB
DTSTART:20241208T110000Z
DTEND:20241208T190000Z
SUMMARY:Operation Kindness Pet Adoption at Galleria Dallas
DESCRIPTION:Stop by Galleria Dallas to meet adoptable dogs and cats from Op
 eration Kindness on Level 1 near Banana Republic. \n  \nPet adoptions take
  place during normal business hours Wednesdays through Sundays\, Nov. 29-D
 ec. 24. \n  \nIf you adopt a pet on Wednesdays\, your new friend will get
  free entry to Santaland during Santa Paws. Mark the occasion with an ador
 able photo with Santa and your new pet! Santa Paws takes place on Wednesda
 ys Nov. 27 – Dec. 18 from 6 – 9 p.m. \n  \nPet adoptions will be free duri
 ng shopping hours on Tuesday\, December 24. \n  \nOperation Kindness will
  also be featured on Galleria Dallas’ December Gallery Wall on Level 1 nea
 r Sephora encouraging the community to get involved and donate to the caus
 e.\nGalleria Dallas\n13350 Dallas Parkway\,\nDallas\, TX\, TX 75240 United
  States\n
LOCATION:13350 Dallas Parkway\,\, Dallas\, TX\, TX 75240
URL:http://addison.bubblelife.com/community/addison_calendar/library/356744
 01/key/3511311193/Operation_Kindness_Pet_Adoption_at_Galleria_Dallas
CREATED:20241121T225135Z
LAST-MODIFIED:20241121T225135Z
DTSTAMP:20260423T013948Z
CLASS:PUBLIC
STATUS:CONFIRMED
TRANSP:TRANSPARENT
SEQUENCE:1
END:VEVENT
END:VCALENDAR
