BEGIN:VCALENDAR
VERSION:2.0
BEGIN:VEVENT
UID:366C3576-8B29-477A-890E-4E388543266F
DTSTART:20241204T110000Z
DTEND:20241204T180000Z
SUMMARY:Holiday Performances at Galleria Dallas
DESCRIPTION:Galleria Dallas has been one of the top holiday destinations fo
 r shoppers across North Texas and around the world for more than four deca
 des. From the iconic 95-foot-tall Christmas tree to Missile Toes\, the ice
 -skating\, back-flipping Santa who shoots fireworks from his skates\, the
  holiday celebration at Galleria Dallas is recognized as one of the grande
 st nationwide.  \n  \nThis holiday season\, more than 60 local groups will
  perform wintry favorites throughout the center at 11 a.m.\, 1 p.m.\, 3 p.
 m. and 5 p.m. weekdays. Shoppers will be treated to free performances from
  celebrated dance companies\, choirs\, orchestras and more. Performances w
 ill take place on Level 1 near Sephora. \n  \nFind the full schedule and m
 ore information on holiday events at  GalleriaDallas.com/holiday .\nGaller
 ia Dallas\n13350 Dallas Parkway\nDallas\, TX 75240 United States\n
LOCATION:13350 Dallas Parkway\, Dallas\, TX 75240
URL:http://addison.bubblelife.com/community/addison_calendar/library/356744
 01/key/3511316503/Holiday_Performances_at_Galleria_Dallas
CREATED:20241122T221308Z
LAST-MODIFIED:20241122T221308Z
DTSTAMP:20260423T014917Z
CLASS:PUBLIC
STATUS:CONFIRMED
TRANSP:TRANSPARENT
SEQUENCE:1
END:VEVENT
END:VCALENDAR
