BEGIN:VCALENDAR
VERSION:2.0
BEGIN:VEVENT
UID:32885689-207C-4585-B64C-640A29DF6637
DTSTART:20241224T170000Z
DTEND:20241224T220000Z
SUMMARY:Christmas Eve Dinner at Trick Rider
DESCRIPTION:The holiday season is fast approaching\, bringing with it the w
 armth of cherished memories shared with loved ones. Omni PGA Frisco Resort
  invites families and friends to make their holiday unforgettable with a f
 estive dining experience at Trick Rider\, the acclaimed fine-dining destin
 ation located at the resort. \n  \nFrom 5 to 10 p.m. Tuesday\, Dec. 24\, g
 uests can indulge in two holiday specials crafted to bring Christmas cheer
  straight to your table:  \n  Prime Rib with Horseradish Crème\, Jus Lasag
 na (White Truffle add-on optional) with an Oxtail Ragu\, Mushroom Bechamel
  \n  \nReservations are recommended and can be made at OpenTable or by cal
 ling the restaurant at 469-305-4610. Don’t miss the chance to celebrate a
  memorable Christmas Eve filled with delicious food\, good company and hol
 iday spirit at Omni PGA Frisco.\nTrick Rider\n4341 PGA Parkway\nFrisco\, T
 X 75033 United States\n
LOCATION:4341 PGA Parkway\, Frisco\, TX 75033
URL:http://addison.bubblelife.com/community/addison_calendar/library/356744
 01/key/3511317903/Christmas_Eve_Dinner_at_Trick_Rider
CREATED:20241210T170940Z
LAST-MODIFIED:20241210T170940Z
DTSTAMP:20260423T001901Z
CLASS:PUBLIC
STATUS:CONFIRMED
TRANSP:TRANSPARENT
SEQUENCE:1
END:VEVENT
END:VCALENDAR
