BEGIN:VCALENDAR
VERSION:2.0
BEGIN:VEVENT
UID:14405995-A74A-4117-8C19-1F28E797D55F
DTSTART:20250505T000000Z
DTEND:20250506T000000Z
SUMMARY:Cinco de Mayo at Cantina Laredo
DESCRIPTION:Cantina Laredo is celebrating Cinco de Mayo with festive cockta
 ils\, shareable menu offerings available for dine-in or to-go and a chance
  to win special prizes through the restaurant’s new text game. \nGuests di
 ning in-restaurant can sip on bold\, seasonal Tradicional Fiesta cocktails
 \, perfect for your Cinco celebration. The options include a Red Pepper ‘R
 ita\, Dos Hombres Michelada\, Cabo Flip ‘Rita and Sotol Sunrise. \nThose h
 osting their own celebrations can take the party home with Cantina Laredo’
 s Cinco App Pack for just $30. The tasty combo includes one pint of fresh
  guacamole\, one pint of roasted tomato salsa and one pint of chile con qu
 eso with delicious house-made chips. \nFor larger gatherings\, the Family
  Fajita Pack offers a generous feast for only $75. The ample offering incl
 udes one pound each of grilled chicken\, steak and sauteed veggies. The di
 nner comes with a pint of cilantro lime rice\, black beans and chile con q
 ueso. House-made chips\, salsa\, flour tortillas\, sour cream and pico de
  gallo are also included. \nCinco de Mayo specials will be available all d
 ay Monday\, May 5 at participating locations. For more information\, visit
  CantinaLaredo.com \nNew this year\, guests can join the Cantina Laredo te
 xt game from April 25 to May 5 for a chance to win a prize or discount. Si
 mply text CLCINCO25 to 89686 to participate.\nCantina Laredo\n4546 Belt Li
 ne Road\nAddison\, TX 75087 United States\n
LOCATION:4546 Belt Line Road\, Addison\, TX 75087
URL:http://addison.bubblelife.com/community/addison_calendar/library/356744
 01/key/3511323231/Cinco_de_Mayo_at_Cantina_Laredo
CREATED:20250430T214836Z
LAST-MODIFIED:20250430T214836Z
DTSTAMP:20260423T011208Z
CLASS:PUBLIC
STATUS:CONFIRMED
TRANSP:TRANSPARENT
SEQUENCE:1
END:VEVENT
END:VCALENDAR
