BEGIN:VCALENDAR
VERSION:2.0
BEGIN:VEVENT
UID:409D25EF-74B3-40D0-9DA0-3FE53CED474B
DTSTART:20250505T000000Z
DTEND:20250506T000000Z
SUMMARY:Cinco de Mayo Specials at El Chico
DESCRIPTION:El Chico’s Rockwall location is celebrating Cinco de Mayowith s
 pecialty food and drinks\, live entertainment and interactive fun on Monda
 y\, May 5. \n  \nThere’s one food special – Fiesta Botanas for $19.99\, an
  assortment of appetizer-size portions of chicken and steak fajita nachos\
 , steak tacos al carbon\, steak quesadillas\, chicken Cascabel tacos and g
 uacamole. \nDrink specials include Mama’s Sangria Swirls and Guava ‘Ritas
  each for $7.50. \nGuests can also add a shot of Monte Alban 100% Agave Si
 lver Tequila to either cocktail for just $2 more. \nThe party continues wi
 th live music from Trio Los Capiros from 5 to 9 p.m.\, setting the tone fo
 r a lively evening.\nEl Chico\n503 Interstate 30\nRockwall\, TX 75087 Unit
 ed States\n
LOCATION:503 Interstate 30\, Rockwall\, TX 75087
URL:http://addison.bubblelife.com/community/addison_calendar/library/356744
 01/key/3511323281/Cinco_de_Mayo_Specials_at_El_Chico
CREATED:20250430T214925Z
LAST-MODIFIED:20250430T214925Z
DTSTAMP:20260422T235055Z
CLASS:PUBLIC
STATUS:CONFIRMED
TRANSP:TRANSPARENT
SEQUENCE:1
END:VEVENT
END:VCALENDAR
