BEGIN:VCALENDAR
VERSION:2.0
BEGIN:VEVENT
UID:1BB6D7D0-2330-4859-9323-D4CDE25EDD13
DTSTART:20250503T180000Z
DTEND:20250503T220000Z
SUMMARY:Derby Watch Party at The Statler
DESCRIPTION:What is said to be the most exciting two minutes in all of spor
 ts takes place on Saturday\, May 3 in Louisville\, Kentucky\, but you don’
 t need to travel to Churchill Downs to experience Derby fun! Come to The S
 tatler\, the iconic mid-century hotel in downtown Dallas\, for themed drin
 ks and more. \n  \nThree of The Statler’s dine-and-drink venues\, Scout\,
  Bourbon & Banter and Waterproof\,  will get you in the Kentucky spirit wi
 th – what else? – Kentucky spirits. Maker’s Mark Mint Juleps and Kentucky
  Mules will be available for $8 at all three outlets. Guests can visit Sco
 ut to participate in a Pick the Winner contest to win a prize – be sure to
  enter before post time at 5:57 p.m.!\nThe Statler\n1914 Commerce St.\,\nD
 allas\, TX 75201 United States\n
LOCATION:1914 Commerce St.\,\, Dallas\, TX 75201
URL:http://addison.bubblelife.com/community/addison_calendar/library/356744
 01/key/3511325312/Derby_Watch_Party_at_The_Statler
CREATED:20250421T205401Z
LAST-MODIFIED:20250421T205401Z
DTSTAMP:20260422T235054Z
CLASS:PUBLIC
STATUS:CONFIRMED
TRANSP:TRANSPARENT
SEQUENCE:1
END:VEVENT
END:VCALENDAR
