BEGIN:VCALENDAR
VERSION:2.0
BEGIN:VEVENT
UID:0973554B-C691-4ADE-8A50-6A25155B5245
DTSTART:20250427T120000Z
DTEND:20250427T150000Z
SUMMARY:Speakeasy Sunday Brunch at Taste Addison
DESCRIPTION:Taste Addison continues to redefine the boundaries of culinary
  and musical excellence. From its modest inception as the region's pioneer
  food festival in 1993\, the event has flourished into an unrivaled celebr
 ation of eats\, beats and artistic treats. \n  \nThis year\, the Speakeasy
  is back – offering an upscale hideaway amid the buzzy festival. On Friday
  and Saturday\, the Speakeasy will be home to cocktail tastings complete w
 ith a souvenir tasting glass\, elevated hors d’oeuvres\, and live entertai
 nment by soulful singers. Purchase your pass for $20 to gain access and en
 joy tastings in this exclusive area. \n  \nOn Sunday\, April 27\, the Spea
 keasy will be home to a Sunday Brunch hosted by Table 13\, Addison’s fine
  dining establishment with a rat pack twist. The three-course experience w
 ill feature a starter\, your choice of Steak Diane\, Eggs Benedict\, or Sm
 oked Salmon Benedict\, and a sweet treat. Each course is perfectly paired
  with brunch cocktails. Sunday Brunch guests will also be treated to a per
 formance by Unfaded Brass Band\, setting the mood with an upbeat jazz set.
  \n  \nTickets to Sunday Brunch are on sale now at TasteAddisonTexas.com f
 or $75 per person\, sold in pairs.\nAddison Circle Park\n4970 Addison Circ
 le\nAddison\, TX 75001 United States\n
LOCATION:4970 Addison Circle\, Addison\, TX 75001
URL:http://addison.bubblelife.com/community/addison_calendar/library/356744
 01/key/3511326010/Speakeasy_Sunday_Brunch_at_Taste_Addison
CREATED:20250417T160737Z
LAST-MODIFIED:20250417T160737Z
DTSTAMP:20260422T235054Z
CLASS:PUBLIC
STATUS:CONFIRMED
TRANSP:TRANSPARENT
SEQUENCE:1
END:VEVENT
END:VCALENDAR
