BEGIN:VCALENDAR
VERSION:2.0
BEGIN:VEVENT
UID:9BBDACBF-BD92-49AA-86AC-59B62227328A
DTSTART:20250425T220000Z
DTEND:20250425T233000Z
SUMMARY:Silversun Pickups at Taste Addison
DESCRIPTION:Taste Addison’s decades-long dedication to bringing top-tier pe
 rformances to North Texas is evident yet again in its 2025 music lineup. F
 rom April 25-27\, renowned national headliners and talented regional and l
 ocal artists will perform across seven performance areas throughout Addiso
 n Circle Park. \nOn Friday at 10 p.m.\, festivalgoers will be treated to t
 he alternative rock of Silversun Pickups on the WFAA Main Stage. Best know
 n for its mix of shoegaze and indie rock\, the SoCal natives’ debut album
  Carnavas featured hits like “Lazy Eye” and follow-up albums like Swoon an
 d Better Nature further established the band’s dynamic\, atmospheric sound
 s and emotive live performances. Silversun Pickups’ latest release\, Physi
 cal Thrills\, contains some of the band’s most stunning songs yet. \nPresa
 le tickets are available now at TasteAddisonTexas.com until April 23. Gene
 ral admission tickets are $10 presale\, $15 at the gate. VIP packages are
  available for presale only\, starting at $100\, and come with access to t
 he VIP lounge by the main stage\, drink tokens\, food tastings\, and a des
 sert bar.\nAddison Circle Park\n4970 Addison Circle\nAddison\, TX 75001 Un
 ited States\n
LOCATION:4970 Addison Circle\, Addison\, TX 75001
URL:http://addison.bubblelife.com/community/addison_calendar/library/356744
 01/key/3511326931/Silversun_Pickups_at_Taste_Addison
CREATED:20250417T161123Z
LAST-MODIFIED:20250417T161123Z
DTSTAMP:20260422T235054Z
CLASS:PUBLIC
STATUS:CONFIRMED
TRANSP:TRANSPARENT
SEQUENCE:1
END:VEVENT
END:VCALENDAR
