BEGIN:VCALENDAR
VERSION:2.0
BEGIN:VEVENT
UID:928BFDC6-8CFC-4DD7-AE82-DCA8A1E30068
DTSTART:20241128T000000Z
DTEND:20241129T000000Z
SUMMARY:Thanksgiving at Ice House
DESCRIPTION:Thanksgiving is around the corner and Omni PGA Frisco Resort is
  bringing festive cheer to the Monument Realty PGA District with holiday s
 pecials. On Thursday\, Nov. 28\, guests are invited to gather with family
  and friends at Ice House to enjoy a thoughtfully crafted holiday special
  that features classic holiday favorites with fresh flavors. \n  \nPricing
  is $26 per person. Seating at Ice House is first come first served\, so d
 on’t miss the chance to gather with loved ones and enjoy a memorable Thank
 sgiving Day experience at Omni PGA Frisco Resort. \n  \nThe menu includes
  classic Thanksgiving dishes with a southern flair: \n  Smoked Turkey Roul
 ade Side options of Cajun shrimp cornbread stuffing\, mac n cheese\, colla
 rd greens\, gravy and cranberry sauce Seasonal cobbler with vanilla ice cr
 eam\nOmni PGA Frisco\n3255 PGA Parkway\nFrisco\, TX 75033 United States\n
LOCATION:3255 PGA Parkway\, Frisco\, TX 75033
URL:http://addison.bubblelife.com/community/addison_calendar/library/356744
 01/key/3511340263/Thanksgiving_at_Ice_House
CREATED:20241111T200308Z
LAST-MODIFIED:20241111T200308Z
DTSTAMP:20260423T013155Z
CLASS:PUBLIC
STATUS:CONFIRMED
TRANSP:TRANSPARENT
SEQUENCE:1
END:VEVENT
END:VCALENDAR
