BEGIN:VCALENDAR
VERSION:2.0
BEGIN:VEVENT
UID:B9E76E36-70FA-48AF-A14F-1B3381333A2C
DTSTART:20241128T130000Z
DTEND:20241128T160000Z
SUMMARY:Thanksgiving Dinner at The Statler
DESCRIPTION:This Thanksgiving\, The Statler in downtown Dallas invites gues
 ts to enjoy an unforgettable dining experience in the hotel's first-floor
  dining space. Featuring an array of chef-curated dishes\, this buffet pro
 mises to elevate your holiday celebrations with family and friends.  \nTo
  make reservations for the Thanksgiving dinner\, priced at $70 per person\
 , go to Eventbrite.com . Please direct any questions about reservations to
  469-320-8998 \nFrom 1 to 4 p.m. Thursday\, Nov. 28\, guests can savor a l
 avish spread that blends traditional favorites with modern culinary twists
 . The menu items include: Your choice of an Artisan Mixed Greens Salad or
  a Roasted Beet Salad A carving station with options of Herb Roasted Turke
 y Breast and Slow Roasted Beef Strip Loin Sweet Potato Casserole Apricot G
 inger Glazed Ham Spiced Apple Chutney Herb Crusted Salmon with Lemon Dill
  Sauce Truffle-infused Whipped Yukon Potatoes Wild Mushroom and Cornbread
  Stuffing Haricots Verts Almondine Sweet Potato Souffle with Pecan Praline
  Toppings Freshly baked Artisan Dinner Rolls with your choice of Sweet Cre
 am Butter\, Herb Garlic and Honey Cinnamon Butter Assorted fresh-baked hol
 iday pies Chef’s selection of assorted miniature desserts \nTo complement
  the meal\, guests can enjoy an assortment of festive cocktails.\nThe Stat
 ler\n1914 Commerce St.\nDallas\, TX 75201 United States\n
LOCATION:1914 Commerce St.\, Dallas\, TX 75201
URL:http://addison.bubblelife.com/community/addison_calendar/library/356744
 01/key/3511342872/Thanksgiving_Dinner_at_The_Statler
CREATED:20241112T222835Z
LAST-MODIFIED:20241112T222835Z
DTSTAMP:20260423T014040Z
CLASS:PUBLIC
STATUS:CONFIRMED
TRANSP:TRANSPARENT
SEQUENCE:1
END:VEVENT
END:VCALENDAR
