BEGIN:VCALENDAR
VERSION:2.0
BEGIN:VEVENT
UID:518E5DB4-1376-40A9-AA63-1D39EC22D4EC
DTSTART:20241218T180000Z
DTEND:20241218T210000Z
SUMMARY:Santa Paws at Santaland
DESCRIPTION:Ever wanted to have your precious fur baby take a photo with Sa
 nta? This year you can at Galleria Dallas! Bring your furry friend that is
  under 100 pounds to our special event\, Santa Paws at Santaland. Santa Pa
 ws nights will be held on Wednesdays\, Nov. 27\, Dec. 4\, Dec. 11 and Dec.
  18 from 6 – 9 p.m. \n  \nSanta arrives at Galleria Dallas on Friday\, Nov
 . 22\, and will welcome guests in Santaland on Level I near Banana Republi
 c with a magical experience and amazing visuals. Galleria Dallas is proud
  to offer the area’s most technologically advanced Santa experience\, wher
 e families board a magical train\, seeing the sights as they move from Dal
 las to the North Pole\, and thanks to Santaland’s special wish list techno
 logy\, Santa knows what kids want under the tree on Christmas morning. You
 r visit through a winter wonderland to Santa’s chalet will be personal and
  complete with photos to remember the occasion. \n  \nThis year\, there wi
 ll be designated times for Santa experiences for those with pets\, familie
 s with children with special needs\, and even a Spanish-speaking Santa. Re
 servations are strongly recommended and can be made online now at  SnowDay
 Dallas.com .\nGalleria Dallas\n13350 Dallas Parkway\nDallas\, TX 75240 Uni
 ted States\n
LOCATION:13350 Dallas Parkway\, Dallas\, TX 75240
URL:http://addison.bubblelife.com/community/addison_calendar/library/356744
 01/key/3511345112/Santa_Paws_at_Santaland
CREATED:20241106T212744Z
LAST-MODIFIED:20241106T212744Z
DTSTAMP:20260423T013156Z
CLASS:PUBLIC
STATUS:CONFIRMED
TRANSP:TRANSPARENT
SEQUENCE:1
END:VEVENT
END:VCALENDAR
