BEGIN:VCALENDAR
VERSION:2.0
BEGIN:VEVENT
UID:84D9C47E-E005-4415-A7E5-23BB40DA41E1
DTSTART:20241128T110000Z
DTEND:20241128T200000Z
SUMMARY:Thanskgiving Dinner at III Forks
DESCRIPTION:III Forks is a beloved dining destination\, especially for cele
 bratory occasions. This year\, the restaurant will host an exquisite Thank
 sgiving feast featuring elevated versions of the holiday’s traditional\, c
 omforting dishes. Rarely open for lunch\, the steakhouse will make an exce
 ption on Thursday\, Nov. 28 when it opens from 11 a.m. to 8 p.m. \nFor $43
  per person\, III Forks’ Thanksgiving menu includes a spice-rubbed holiday
  turkey with Grandma’s gravy\, fresh cranberry-orange relish\, sausage sag
 e cornbread dressing\, creamed potatoes\, maple-glazed yams and roasted au
 tumn vegetables. The meal is $18 for children 12 and younger. Guests will
  also be able to order from a number of the restaurant’s most popular star
 ters\, soups\, salads\, steaks\, seafood and amazing desserts including Ke
 ntucky Bourbon Chocolate Pecan Pie and Pumpkin Pie Cake. The Thanksgiving
  menu is available for dine-in and curbside pick-up.\nIII Forks\n1303 Lega
 cy Drive\nFrisco\, TX 75033 United States\n
LOCATION:1303 Legacy Drive\, Frisco\, TX 75033
URL:http://addison.bubblelife.com/community/addison_calendar/library/356744
 01/key/3511347074/Thanskgiving_Dinner_at_III_Forks
CREATED:20241114T212408Z
LAST-MODIFIED:20241114T212408Z
DTSTAMP:20260423T014040Z
CLASS:PUBLIC
STATUS:CONFIRMED
TRANSP:TRANSPARENT
SEQUENCE:1
END:VEVENT
END:VCALENDAR
