BEGIN:VCALENDAR
VERSION:2.0
BEGIN:VEVENT
UID:E7A2A408-2DB0-4442-A15C-1569F3A542E0
DTSTART:20241128T120000Z
DTEND:20241128T180000Z
SUMMARY:Thanksgiving Dinner at Silver Fox
DESCRIPTION:Silver Fox\, North Texas’ leading neighborhood steakhouse\, wil
 l celebrate Thanksgiving with a curated menu highlighting classic holiday
  recipes with Silver Fox’s upscale touch. On Thursday\, Nov. 28 from noon
  until 6 p.m.\, guests can enjoy slow roasted turkey with Grandma’s gravy\
 , cornbread dressing\, whipped potatoes\, candied yams\, sugar snap peas a
 nd spiced cranberry sauce for $42 per person ($18 for children 12 and youn
 ger). \nA selection of the restaurant’s most popular starters\, soups\, sa
 lads\, steaks and seasonal desserts including Kentucky Bourbon Pecan Pie a
 nd Pumpkin Pie will also be available for purchase. The Thanksgiving menu
  is available for dine-in and curbside pick-up.\nSilver Fox\n3650 Shire Bl
 vd\nRichardson\, TX 75082 United States\n
LOCATION:3650 Shire Blvd\, Richardson\, TX 75082
URL:http://addison.bubblelife.com/community/addison_calendar/library/356744
 01/key/3511347473/Thanksgiving_Dinner_at_Silver_Fox
CREATED:20241114T152028Z
LAST-MODIFIED:20241114T152028Z
DTSTAMP:20260423T014040Z
CLASS:PUBLIC
STATUS:CONFIRMED
TRANSP:TRANSPARENT
SEQUENCE:1
END:VEVENT
END:VCALENDAR
