BEGIN:VCALENDAR
VERSION:2.0
BEGIN:VEVENT
UID:C804486A-314A-4516-B6C9-636051F07656
DTSTART:20241115T000000Z
DTEND:20241116T000000Z
SUMMARY:Turkey Platter at Lucky's
DESCRIPTION:Dallas’ most iconic diner\, Luckys\, is celebrating Thanksgivin
 g early with a Turkey and Dressing platter that is available for dine-in N
 ov. 1 through Dec. 31. The platter ($18.99) includes turkey\, dressing\, t
 wo side dishes and cranberry sauce. \nThe restaurant will also offer sides
  and desserts for your Thanksgiving Day celebration. A whole apple pie is
  $15.99\, a pint of vegetables is $6.79\, and a pint of cranberry sauce is
  $7.79. To-go orders for Thanksgiving Day must be placed by Friday\, Nov.
  22. Pick up the orders on Wednesday\, Nov. 27. Luckys is closed on Thanks
 giving Day.\nLuckys\n3531 Oak Lawn\nDallas\, TX 75219 United States\n
LOCATION:3531 Oak Lawn\, Dallas\, TX 75219
URL:http://addison.bubblelife.com/community/addison_calendar/library/356744
 01/key/3511347850/Turkey_Platter_at_Luckys
CREATED:20241115T215028Z
LAST-MODIFIED:20241115T215028Z
DTSTAMP:20260423T013218Z
RRULE:FREQ=DAILY;UNTIL=20241127T000000Z;WKST=FR
CLASS:PUBLIC
STATUS:CONFIRMED
TRANSP:TRANSPARENT
SEQUENCE:1
END:VEVENT
END:VCALENDAR
