BEGIN:VCALENDAR
VERSION:2.0
BEGIN:VEVENT
UID:6AA8E2FB-2265-4F3F-A785-BA02B06B41F8
DTSTART:20250222T000000Z
DTEND:20250223T000000Z
SUMMARY:Cantina Laredo Celebrates National Margarita Day
DESCRIPTION:Cantina Laredo offers a dozen margaritas on its bar menu\, rang
 ing from a Casa Rita – which features Monte Alban 100% Agave Silver Tequil
 a\, Cointreau and fresh-squeezed lemon and lime juices – to a Coconut Pass
 ion Rita\, which uses Espolòn Blanco Tequila\, Grand Marnier\, Harmless Ha
 rvest Organic Coconut Water\, Monin Agave Nectar and Reàl Passion Fruit. B
 ut the star of the margarita lineup is Cantina Laredo’s El Diamante Margar
 ita. \nThe El Diamante Margarita features Avión Reserva Cristalino Tequila
 \, Cointreau Noir (a blend of Cointreau Orange Liqueur and Remy Martin Cog
 nac)\, Monin Agave Nectar and fresh lime and lemon juices. The cocktail is
  served over a large diamond ice cube in a stunning presentation. The top-
 shelf margarita is priced at $29 and is available every day at the restaur
 ant.\nCantina Laredo\n4546 Belt Line Road\nAddison\, TX 75087 United State
 s\n
LOCATION:4546 Belt Line Road\, Addison\, TX 75087
URL:http://addison.bubblelife.com/community/addison_calendar/library/356744
 01/key/3511357294/Cantina_Laredo_Celebrates_National_Margarita_Day
CREATED:20250204T194740Z
LAST-MODIFIED:20250204T194740Z
DTSTAMP:20260422T221445Z
CLASS:PUBLIC
STATUS:CONFIRMED
TRANSP:TRANSPARENT
SEQUENCE:1
END:VEVENT
END:VCALENDAR
