BEGIN:VCALENDAR
VERSION:2.0
BEGIN:VEVENT
UID:2A836A5F-2450-4005-890D-CA91C77E0380
DTSTART:20241225T110000Z
DTEND:20241225T210000Z
SUMMARY:Christmas BBQ at Scout
DESCRIPTION:Scout\, the ultimate destination for fun\, is giving guests a c
 hange of pace this Christmas Day. Forget turkey or ham this holiday season
  – Texans know that smoked brisket’s where it’s at. \nThe eatertainment ve
 nue will offer a special $38 BBQ Sampler for hungry guests spotlighting a
  smoked brisket with a cranberry-barbecue glaze. The meal will come with m
 ac and cheese\, green beans with caramelized onions and cornbread. Add a s
 mall side of festive coleslaw featuring dried cranberries and walnuts for
  an extra $3. \nThe meal comes complete with dessert: a slice of Turtle Ch
 eesecake drizzled with bourbon caramel sauce. This dessert combines the ri
 ch flavors of chocolate\, caramel and pecans\, providing a decadent finish
  to the meal. \nScout is located inside The Statler at 1914 Commerce St. i
 n Dallas. For more information\, visit www.scoutdallas.com .\nScout\n1914
  Commerce St.\,\nDallas\, TX 75201 United States\n
LOCATION:1914 Commerce St.\,\, Dallas\, TX 75201
URL:http://addison.bubblelife.com/community/addison_calendar/library/356744
 01/key/3511366222/Christmas_BBQ_at_Scout
CREATED:20241219T223546Z
LAST-MODIFIED:20241219T223546Z
DTSTAMP:20260423T001819Z
CLASS:PUBLIC
STATUS:CONFIRMED
TRANSP:TRANSPARENT
SEQUENCE:1
END:VEVENT
END:VCALENDAR
