BEGIN:VCALENDAR
VERSION:2.0
BEGIN:VEVENT
UID:7F2CCB56-D13F-4389-AA44-A0876932CD90
DTSTART:20241231T200000Z
DTEND:20250101T020000Z
SUMMARY:Countdown in the Sky at Waterproof
DESCRIPTION:Celebrate new beginnings at downtown Dallas’ hottest New Year’s
  Eve party at Waterproof\, the acclaimed rooftop lounge at The Statler. Ga
 ther your friends or treat your special someone to a night of great music
  and spectacular views. Countdown in the Sky will take place on Tuesday\,
  Dec. 31 from 8 p.m. to 2 a.m. General admission tickets are $75 per perso
 n. Must be 21+ to attend. \n  \nVIP packages are available to take your ce
 lebration up a notch. The $200 Couples package includes two VIP entry tick
 ets with front-of-the-line access\, one Champagne bottle\, one high-top ta
 ble and New Year’s Eve party favors. Additional packages are available for
  groups of 6 to 12 people. \n  \nFor more information and to purchase tick
 ets\, visit waterproofdallas.com/happenings . For more information on Wate
 rproof\, visit www.waterproofdallas.com .\nWaterproof\n1914 Commerce St.\n
 Dallas\, TX 75201 United States\n
LOCATION:1914 Commerce St.\, Dallas\, TX 75201
URL:http://addison.bubblelife.com/community/addison_calendar/library/356744
 01/key/3511366884/Countdown_in_the_Sky_at_Waterproof
CREATED:20241219T225550Z
LAST-MODIFIED:20241219T225550Z
DTSTAMP:20260423T001819Z
CLASS:PUBLIC
STATUS:CONFIRMED
TRANSP:TRANSPARENT
SEQUENCE:1
END:VEVENT
END:VCALENDAR
