BEGIN:VCALENDAR
VERSION:2.0
BEGIN:VEVENT
UID:C54E8531-5C2B-4E01-BD90-3440BFC85439
DTSTART:20241231T110000Z
DTEND:20241231T150000Z
SUMMARY:Noon Year's Eve at Fish City Grill
DESCRIPTION:Is staying up for that glittering ball in New York’s Times Squa
 re not on your priority list? The team at Fish City Grill & Half Shells in
 vites you to celebrate with Noon Year’s Eve on Dec. 31. \nCustomers at Fis
 h City Grill and Half Shells will enjoy party hats and table décor as they
  lunch at the acclaimed neighborhood seafood favorite. The restaurants wil
 l also offer an array of food and cocktail specials for the occasion. \nNo
 on Year’s Eve specials include: \n French 75  $8 \n Peach Bellini  $8 \n H
 orseradish Arctic Char\,  served with a Creole mustard cream\, buttermilk
  mashed potatoes and sugar snap peas for $24.99 \n Lobster & Shrimp Grille
 d Cheese Cheddar\, jack\, American\, queso blanco\, Applewood smoked bacon
 \, sriracha and green onions\, on grilled sourdough for $20.49 \nAdditiona
 lly\, each location will offer special pricing on mimosas for the celebrat
 ion. \nThe following day\, Jan. 1\, is not only New Year’s Day. It is also
  National Bloody Mary Day. Each restaurant will offer Bill’s Bloody Mary a
 ll day for only $6 in celebration.\nFish City Grill\n10720 Preston Road\nD
 allas\, TX 75230 United States\n
LOCATION:10720 Preston Road\, Dallas\, TX 75230
URL:http://addison.bubblelife.com/community/addison_calendar/library/356744
 01/key/3511369810/Noon_Years_Eve_at_Fish_City_Grill
CREATED:20241220T200729Z
LAST-MODIFIED:20241220T200729Z
DTSTAMP:20260423T001901Z
CLASS:PUBLIC
STATUS:CONFIRMED
TRANSP:TRANSPARENT
SEQUENCE:1
END:VEVENT
END:VCALENDAR
