BEGIN:VCALENDAR
VERSION:2.0
BEGIN:VEVENT
UID:8D63D7BC-6E3F-4459-AC25-1CB29B5CF33A
DTSTART:20250426T113000Z
DTEND:20250426T120000Z
SUMMARY:Showtime Saturdays at Galleria Dallas
DESCRIPTION:Showtime Saturdays at Galleria Dallas provides a variety of cap
 tivating shows by professional circus clowns\, magicians and kid-friendly
  comedians. Every Saturday\, children and families are welcome to enjoy th
 is free\, in-person entertainment series. \nOn Saturday\, April 26\, enjoy
  a show by Tommy Terrific . This wacky magic show is a unique blend of lau
 gh-out-loud comedy coupled with sensational magic\, all combined with an e
 ducational approach that is all about having fun with books. Tommy engages
  the audience in his magic tricks to create educational fun for the whole
  family. The show will be on level three\, near the children's play place.
 \nGalleria Dallas\n13350 Dallas Parkway\,\nDallas\, TX 75240 United States
 \n
LOCATION:13350 Dallas Parkway\,\, Dallas\, TX 75240
URL:http://addison.bubblelife.com/community/addison_calendar/library/356744
 01/key/3511390831/Showtime_Saturdays_at_Galleria_Dallas
CREATED:20250313T170756Z
LAST-MODIFIED:20250313T170756Z
DTSTAMP:20260422T235053Z
CLASS:PUBLIC
STATUS:CONFIRMED
TRANSP:TRANSPARENT
SEQUENCE:1
END:VEVENT
END:VCALENDAR
