BEGIN:VCALENDAR
VERSION:2.0
BEGIN:VEVENT
UID:24AE5A67-FBC6-41C5-85EC-3304A55D4F80
DTSTART:20250419T113000Z
DTEND:20250419T120000Z
SUMMARY:Showtime Saturdays at Galleria Dallas
DESCRIPTION:Showtime Saturdays at Galleria Dallas provides a variety of cap
 tivating shows by professional circus clowns\, magicians and kid-friendly
  comedians. Every Saturday\, children and families are welcome to enjoy th
 is free\, in-person entertainment series. \nOn Saturday\, April 19\, enjoy
  a show by David Chicken. Three-time Emmy Award-Winning musician leads the
  kids through high-energy\, interactive performances. Join David to sing\,
  play musical instruments and be a star! The show will be on level three\,
  near the children's play place.\nGalleria Dallas\n13350 Dallas Parkway\,\
 nDallas\, TX 75240 United States\n
LOCATION:13350 Dallas Parkway\,\, Dallas\, TX 75240
URL:http://addison.bubblelife.com/community/addison_calendar/library/356744
 01/key/3511390864/Showtime_Saturdays_at_Galleria_Dallas
CREATED:20250313T171501Z
LAST-MODIFIED:20250313T171501Z
DTSTAMP:20260422T235053Z
CLASS:PUBLIC
STATUS:CONFIRMED
TRANSP:TRANSPARENT
SEQUENCE:1
END:VEVENT
END:VCALENDAR
