BEGIN:VCALENDAR
VERSION:2.0
BEGIN:VEVENT
UID:BFCABC2F-AC9A-4459-9443-00DB2BE4EC6B
DTSTART:20250327T000000Z
DTEND:20250328T000000Z
SUMMARY:Whiskey Day at Waterproof
DESCRIPTION:The Statler\, the luxury hotel in the heart of downtown Dallas\
 , is raising a glass to International Whiskey Day with specialty cocktails
  and whiskey flights on Thursday\, March 27. Honoring the rich history\, c
 raftsmanship and global appreciation of whiskey\, The Statler’s acclaimed
  dine-and-drink venues are serving up exclusive offerings for the occasion
 . \nGuests can head to Waterproof\, the rooftop oasis on the 19 th floor\,
  and enjoy an Old Fashioned crafted with Redemption Bourbon for $10\, alon
 g with the refreshing Gold Rush cocktail for $12.\nWaterproof\n1914 Commer
 ce St.\,\nDallas\, TX 75201 United States\n
LOCATION:1914 Commerce St.\,\, Dallas\, TX 75201
URL:http://addison.bubblelife.com/community/addison_calendar/library/356744
 01/key/3511393014/Whiskey_Day_at_Waterproof
CREATED:20250318T214144Z
LAST-MODIFIED:20250318T214144Z
DTSTAMP:20260422T235052Z
CLASS:PUBLIC
STATUS:CONFIRMED
TRANSP:TRANSPARENT
SEQUENCE:1
END:VEVENT
END:VCALENDAR
