BEGIN:VCALENDAR
VERSION:2.0
BEGIN:VEVENT
UID:56D0F7A5-994C-4A28-95B0-E7410B8DFBA8
DTSTART:20250319T000000Z
DTEND:20250320T000000Z
SUMMARY:Scout March Madness Specials
DESCRIPTION:Scout\, the ultimate destination for fun in downtown Dallas\, i
 s giving the “full court press” for March Madness this spring. Get a “slam
  dunk” with four basketball-themed cocktails – and you don’t have to wait
  till “halftime” to enjoy them! Score a “triple-double” by pairing a cockt
 ail with one of Scout’s delicious menu items as you enjoy the game on one
  of its many TVs. \n March Madness Cocktails - $10 each Full Court Press:
  Tito’s Handmade Vodka\, lime juice and lavender topped with orange soda S
 lam Dunk Lemonade : Tito’s Handmade Vodka\, lime juice\, lemon juice and s
 imple syrup Halftime Fizz: LALO Tequila\, pomegranate\, simple syrup and g
 renadine Triple Double Margarita: LALO Tequila\, triple sec\, lemon juice\
 , lime juice and agave \nIf you’re more of a beer drinker\, Scout is also
  offering a $15 Pizza & Brews special\, where you can pair your favorite b
 eer with the kitchen’s house-made pizza. Can’t decide what to order? The P
 ick 4 Platter ($15) will allow you to try a little of everything. Choose f
 rom wings\, chicken tenders\, beef sliders\, queso & chips\, guac & chips\
 , quesadillas\, sea salt fries and onion rings.\nScout Dallas\n1914 Commer
 ce St.\,\nDallas\, TX 75201 United States\n
LOCATION:1914 Commerce St.\,\, Dallas\, TX 75201
URL:http://addison.bubblelife.com/community/addison_calendar/library/356744
 01/key/3511397541/Scout_March_Madness_Specials
CREATED:20250319T204537Z
LAST-MODIFIED:20250319T204537Z
DTSTAMP:20260422T235053Z
RRULE:FREQ=DAILY;UNTIL=20250407T000000Z;WKST=WE
CLASS:PUBLIC
STATUS:CONFIRMED
TRANSP:TRANSPARENT
SEQUENCE:1
END:VEVENT
END:VCALENDAR
