BEGIN:VCALENDAR
VERSION:2.0
BEGIN:VEVENT
UID:546001C1-F617-47B7-AE4A-ECFD08D40B08
DTSTART:20250313T200000Z
DTEND:20250314T010000Z
SUMMARY:St. Patrick's Day Celebration at Scout
DESCRIPTION:Kick off the weekend at Scout\, the ultimate destination for fu
 n\, where guests can celebrate at “Lepre-con.” Dress with St. Paddy’s flai
 r and enjoy festive bites\, drinks and lively entertainment on Friday\, Ma
 rch 14 from 8 p.m. to 1 a.m. Dig into classics such as Shepherd’s Pie ($15
 )\, Reuben Poppers ($12) and Irish Nachos ($13). Those will pair perfectly
  with Paddy’s Ginger & Ale ($7)\, Cantera Paloma ($12)\, St. Paddy’s Green
  Tea Shots ($8) and Green Beer ($3). Adding to the festive vibe\, a live D
 J and bagpipe performer will keep the energy going all night. The food and
  drink specials will continue Saturday\, March 15.\nScout Dallas\n1914 Com
 merce St.\,\nDallas\, TX\, TX 75201 United States\n
LOCATION:1914 Commerce St.\,\, Dallas\, TX\, TX 75201
URL:http://addison.bubblelife.com/community/addison_calendar/library/356744
 01/key/3511399100/St._Patricks_Day_Celebration_at_Scout
CREATED:20250311T191951Z
LAST-MODIFIED:20250311T191951Z
DTSTAMP:20260422T221419Z
CLASS:PUBLIC
STATUS:CONFIRMED
TRANSP:TRANSPARENT
SEQUENCE:1
END:VEVENT
END:VCALENDAR
