BEGIN:VCALENDAR
VERSION:2.0
BEGIN:VEVENT
UID:5D3CA7D4-02BD-473D-A769-A049C04C59F2
DTSTART:20250314T000000Z
DTEND:20250316T000000Z
SUMMARY:St. Paddys Specials at Bourbon & Banter
DESCRIPTION:On both Friday\, March 14 and Saturday\, March 15\, guests can
  head downstairs to the intimate Bourbon & Banter\, the eclectic speakeasy
  beneath The Statler\, and enjoy handcrafted cocktails with an Irish twist
 . The menu includes an Irish Espresso Martini ($12)\, Paddy’s Old Fashione
 d ($10) and Tequila Gold Rush ($10).\nBourbon and Banter\n1914 Commerce St
 .\,\nDallas\, TX\, TX 75201 United States\n
LOCATION:1914 Commerce St.\,\, Dallas\, TX\, TX 75201
URL:http://addison.bubblelife.com/community/addison_calendar/library/356744
 01/key/3511399122/St._Paddys_Specials_at_Bourbon_Banter
CREATED:20250311T191831Z
LAST-MODIFIED:20250311T191831Z
DTSTAMP:20260422T221419Z
CLASS:PUBLIC
STATUS:CONFIRMED
TRANSP:TRANSPARENT
SEQUENCE:1
END:VEVENT
END:VCALENDAR
