BEGIN:VCALENDAR
VERSION:2.0
BEGIN:VEVENT
UID:6D7A7293-A510-42C4-A44D-97D008628162
DTSTART:20250405T113000Z
DTEND:20250405T120000Z
SUMMARY:Showtime Saturdays at Galleria Dallas
DESCRIPTION:Showtime Saturdays at Galleria Dallas provides a variety of cap
 tivating shows by professional circus clowns\, magicians and kid-friendly
  comedians. Every Saturday\, children and families are welcome to enjoy th
 is free\, in-person entertainment series. \nOn Saturday\, April 5\, enjoy
  a show by The Ramazinis. Former Ringling Bros. Circus clowns bring the la
 ughs with comedy\, juggling\, magic and acrobatics.\nGalleria Dallas\n1335
 0 Dallas Parkway\,\nDallas\, TX 75240 United States\n
LOCATION:13350 Dallas Parkway\,\, Dallas\, TX 75240
URL:http://addison.bubblelife.com/community/addison_calendar/library/356744
 01/key/3511399914/Showtime_Saturdays_at_Galleria_Dallas
CREATED:20250311T191428Z
LAST-MODIFIED:20250311T191428Z
DTSTAMP:20260422T235052Z
CLASS:PUBLIC
STATUS:CONFIRMED
TRANSP:TRANSPARENT
SEQUENCE:1
END:VEVENT
END:VCALENDAR
