BEGIN:VCALENDAR
VERSION:2.0
BEGIN:VEVENT
UID:25AE983D-0092-48B7-953D-94B18295123E
DTSTART:20260510T110000Z
DTEND:20260510T160000Z
SUMMARY:Mother's Day Brunch at Knife Italian Steak
DESCRIPTION:Knife Italian Steak at The Ritz-Carlton Dallas\, Las Colinas is
  hosting a festive Mother’s Day brunch buffet on Sunday\, May 10 from 11 a
 .m. to 4 p.m. Guests can enjoy a chef-attended carving station\, raw bar\,
  elevated brunch favorites and signature Italian dishes like house-made pa
 sta and wood-fired pizzas. Moms will receive a complimentary glass of cham
 pagne. Reservations can be made on OpenTable .\nKnife Italian Steak\n4150
  N MacArthur Blvd\nIrving\, TX 75083 United States\n
LOCATION:4150 N MacArthur Blvd\, Irving\, TX 75083
URL:http://addison.bubblelife.com/community/addison_calendar/library/356744
 01/key/3511778011/Mothers_Day_Brunch_at_Knife_Italian_Steak
CREATED:20260421T213130Z
LAST-MODIFIED:20260421T213130Z
DTSTAMP:20260422T093502Z
CLASS:PUBLIC
STATUS:CONFIRMED
TRANSP:TRANSPARENT
SEQUENCE:1
END:VEVENT
END:VCALENDAR
