BEGIN:VCALENDAR
VERSION:2.0
BEGIN:VEVENT
UID:4F1C7878-35BC-41F1-9CE3-80F4506929C9
DTSTART:20260510T103000Z
DTEND:20260510T140000Z
SUMMARY:Mother's Day at Top Brass
DESCRIPTION:Top Brass will host a Mother’s Day jazz brunch buffet on May 10
  from 10:30 a.m. to 2 p.m. featuring signature dishes across nine stations
 \, live music from former “The Voice” contestant Dana Harper and a carving
  station with smoked brisket and salmon. The buffet includes breakfast fav
 orites\, salads\, entrées\, kids’ options and desserts. Pricing is $80 for
  adults\, $55 for seniors\, $30 for kids 6-12 and $10 for kids 2-5. Reserv
 ations are available through OpenTable.\nTop Brass\n1435 Midway Road\nAddi
 son\, TX 75244 United States\n
LOCATION:1435 Midway Road\, Addison\, TX 75244
URL:http://addison.bubblelife.com/community/addison_calendar/library/356744
 01/key/3511778044/Mothers_Day_at_Top_Brass
CREATED:20260421T213117Z
LAST-MODIFIED:20260421T213117Z
DTSTAMP:20260422T093501Z
CLASS:PUBLIC
STATUS:CONFIRMED
TRANSP:TRANSPARENT
SEQUENCE:1
END:VEVENT
END:VCALENDAR
