BEGIN:VCALENDAR
VERSION:2.0
BEGIN:VEVENT
UID:6F07434D-8F0B-4618-A7A0-146E27CED794
DTSTART:20260510T120000Z
DTEND:20260510T150000Z
SUMMARY:Mother's Day Tea at Bar Juniper
DESCRIPTION:This Mother’s Day\, enjoy a lighter\, garden-inspired celebrati
 on at Bar Juniper’s Garden Botanicals Afternoon Summer Tea. This garden-in
 spired twist on afternoon tea is complete with a curated selection of seas
 onal teas\, an artful presentation of pastries\, delicate finger sandwiche
 s and whimsical sweets. Add a glass of bubbles for just the right amount o
 f sparkle. \n  \nGarden Botanicals Afternoon Summer Tea takes place 12 – 3
  p.m. Reservations can be made on OpenTable . \n  \nTea service is $125 pe
 r adult and $55 for children ages 4-12. Reservations are strongly encourag
 ed to guarantee seating.\nBar Juniper\n4150 N MacArthur Blvd\nIrving\, TX
  75083 United States\n
LOCATION:4150 N MacArthur Blvd\, Irving\, TX 75083
URL:http://addison.bubblelife.com/community/addison_calendar/library/356744
 01/key/3511778061/Mothers_Day_Tea_at_Bar_Juniper
CREATED:20260421T213048Z
LAST-MODIFIED:20260421T213048Z
DTSTAMP:20260422T155015Z
CLASS:PUBLIC
STATUS:CONFIRMED
TRANSP:TRANSPARENT
SEQUENCE:1
END:VEVENT
END:VCALENDAR
