BEGIN:VCALENDAR
VERSION:2.0
BEGIN:VEVENT
UID:629B1532-69DA-420C-AFC7-815D69496043
DTSTART:20260510T000000Z
DTEND:20260511T000000Z
SUMMARY:Mother's Day Special at El Chico
DESCRIPTION:On Sunday\, May 10\, El Chico is celebrating Mother’s Day with
  a sweet treat for the mom in your life. Select El Chico locations will se
 rve moms a free plate of Strawberry Nachos. Only available on special occa
 sions\, the Strawberry Nachos include cinnamon chips topped with fresh str
 awberries\, whipped cream and a scoop of vanilla ice cream.\nEl Chico\n503
  Interstate 30 Frontage Road\nRockwall\, TX 75087 United States\n
LOCATION:503 Interstate 30 Frontage Road\, Rockwall\, TX 75087
URL:http://addison.bubblelife.com/community/addison_calendar/library/356744
 01/key/3511778533/Mothers_Day_Special_at_El_Chico
CREATED:20260421T213450Z
LAST-MODIFIED:20260421T213450Z
DTSTAMP:20260422T093502Z
CLASS:PUBLIC
STATUS:CONFIRMED
TRANSP:TRANSPARENT
SEQUENCE:1
END:VEVENT
END:VCALENDAR
