BEGIN:VCALENDAR
VERSION:2.0
BEGIN:VEVENT
UID:326A0F2E-E9B4-4543-8175-225CF2019496
DTSTART:20260510T110000Z
DTEND:20260510T200000Z
SUMMARY:Mother's Day at Silver Fox
DESCRIPTION:Celebrate Mother’s Day at Silver Fox\, the neighborhood steakho
 use in Richardson and Fort Worth\, open Sunday\, May 10 from 11 a.m.- 8 p.
 m. for the occasion. Guests can enjoy the full menu along with special fea
 tures like a Roasted Beef Tenderloin Benedict and select cocktails. \nFor
  more information visit silverfoxcafe.com . Reservations are recommended a
 nd can be made by calling the restaurant.\nSilver Fox\n3650 Shire Boulevar
 d\nRichardson\, TX 75082 United States\n
LOCATION:3650 Shire Boulevard\, Richardson\, TX 75082
URL:http://addison.bubblelife.com/community/addison_calendar/library/356744
 01/key/3511778544/Mothers_Day_at_Silver_Fox
CREATED:20260421T213522Z
LAST-MODIFIED:20260421T213522Z
DTSTAMP:20260422T155015Z
CLASS:PUBLIC
STATUS:CONFIRMED
TRANSP:TRANSPARENT
SEQUENCE:1
END:VEVENT
END:VCALENDAR
