BEGIN:VCALENDAR
VERSION:2.0
BEGIN:VEVENT
UID:8DA3359A-A898-42E4-9C96-6A44F6E5CF0A
DTSTART:20260510T110000Z
DTEND:20260510T150000Z
SUMMARY:Mother's Day at Cantina Laredo
DESCRIPTION:Celebrate Mother’s Day at Cantina Laredo on Sunday\, May 10\, w
 ith a festive brunch featuring its signature Crab Cakes Benedict\, availab
 le from 11 a.m. to 3 p.m. at the Addison and Frisco locations. Moms will r
 eceive a complimentary mimosa or Bloody Mary with the purchase of an adult
  entrée. Guests can also enjoy a variety of brunch favorites\, including M
 igas Con Huevas\, spinach & artichoke omelet\, Chilaques and Asada y Huevo
 s.\nCantina Laredo\n4546 Belt Line Road\nAddison\, TX 75244 United States\
 n
LOCATION:4546 Belt Line Road\, Addison\, TX 75244
URL:http://addison.bubblelife.com/community/addison_calendar/library/356744
 01/key/3511778583/Mothers_Day_at_Cantina_Laredo
CREATED:20260421T213500Z
LAST-MODIFIED:20260421T213500Z
DTSTAMP:20260422T093502Z
CLASS:PUBLIC
STATUS:CONFIRMED
TRANSP:TRANSPARENT
SEQUENCE:1
END:VEVENT
END:VCALENDAR
