BEGIN:VCALENDAR
VERSION:2.0
BEGIN:VEVENT
UID:7C77CDFB-CB69-4DB5-B8CB-CAE14DBE5108
DTSTART:20260510T000000Z
DTEND:20260511T000000Z
SUMMARY:Mother's Day at Overeasy
DESCRIPTION:Overeasy\, downtown Dallas’ favorite upscale diner\, is celebra
 ting Mother’s Day with a limited-time lineup of menu items just for the sp
 ecial occasion. The new offerings include: \n  Smoked Salmon Benedict - $1
 6 \n Biscuit\, smoked salmon\, Lemon Hollandaise\, asparagus \n   Lemon Bl
 ueberry Pancakes - $15 \n With Maple\, ricotta Cheese & Candied Pecans \n
   Spinach\, Goat Cheese & Sun‑Dried Tomato Omelet - $16 \n With hash brown
  potatoes\, choice of toast \n  Chocolate‑Hazelnut Crêpes - $15 \n Topped
  with sliced bananas or strawberries\nOvereasy\n1914 Commerce St\nDallas\,
  TX 75240 United States\n
LOCATION:1914 Commerce St\, Dallas\, TX 75240
URL:http://addison.bubblelife.com/community/addison_calendar/library/356744
 01/key/3511778932/Mothers_Day_at_Overeasy
CREATED:20260421T213129Z
LAST-MODIFIED:20260421T213129Z
DTSTAMP:20260422T093502Z
CLASS:PUBLIC
STATUS:CONFIRMED
TRANSP:TRANSPARENT
SEQUENCE:1
END:VEVENT
END:VCALENDAR
