BEGIN:VCALENDAR
VERSION:2.0
BEGIN:VEVENT
UID:F1F05BA9-7B74-4005-8DAA-05F869707CBB
DTSTART:20260510T120000Z
DTEND:20260510T160000Z
SUMMARY:Mother's Day Brunch at The Statler
DESCRIPTION:Celebrate Mother’s Day at The Statler in downtown Dallas with a
 n elegant brunch buffet on Sunday\, May 10 from 12-4 p.m. Guests will enjo
 y a chef-curated spread featuring breakfast favorites\, seasonal fruit\, c
 arved meats\, savory entrees and classic Southern sides. The experience is
  $40 for adults and $20 for children 11 and under. Reservations are recomm
 ended via Eventbrite.\nThe Statler\n1914 Commerce St\nDallas\, TX 75240 Un
 ited States\n
LOCATION:1914 Commerce St\, Dallas\, TX 75240
URL:http://addison.bubblelife.com/community/addison_calendar/library/356744
 01/key/3511778971/Mothers_Day_Brunch_at_The_Statler
CREATED:20260421T213116Z
LAST-MODIFIED:20260421T213116Z
DTSTAMP:20260422T155015Z
CLASS:PUBLIC
STATUS:CONFIRMED
TRANSP:TRANSPARENT
SEQUENCE:1
END:VEVENT
END:VCALENDAR
