BEGIN:VCALENDAR
VERSION:2.0
BEGIN:VEVENT
UID:3815D9C8-6708-43D8-843E-614C2C9B5154
DTSTART:20260429T080000Z
DTEND:20260429T143000Z
SUMMARY:Jetsetters Coffee Lounge Grand Opening
DESCRIPTION:Jetsetters Coffee Lounge\, a new café and gathering space insid
 e Frontiers of Flight Museum\, is officially opening to the public on Wedn
 esday\, April 29. Located near Dallas Love Field\, Jetsetters is the perfe
 ct respite for travelers awaiting a flight\, remote workers looking for a
  change of scenery and locals wanting to pair their coffee with a side of
  exploration. \nVisitors can start their day or power through the afternoo
 n with premium coffees from award-winning Cultivar Coffee (roasted in Nort
 h Texas) along with specialty drinks and refreshing beverages. Pair your d
 rink with sweet and savory pastry delights from Sugar & Sage bakery\, brea
 kfast tacos from Texas-based Tacodeli or enjoy a snack from the grab n’ go
  section. \nJetsetters is open Monday – Friday 8 a.m. – 2:30 p.m.\, Saturd
 ay 10 a.m. – 4 p.m.\, Sunday 1 p.m. – 4 p.m.\nFrontiers of Flight Museum\n
 6911 Lemmon Ave\nDallas\, TX 75209 United States\n
LOCATION:6911 Lemmon Ave\, Dallas\, TX 75209
URL:http://addison.bubblelife.com/community/addison_calendar/library/356744
 01/key/3511778982/Jetsetters_Coffee_Lounge_Grand_Opening
CREATED:20260421T213145Z
LAST-MODIFIED:20260421T213145Z
DTSTAMP:20260422T014733Z
CLASS:PUBLIC
STATUS:CONFIRMED
TRANSP:TRANSPARENT
SEQUENCE:1
END:VEVENT
END:VCALENDAR
