BEGIN:VCALENDAR
VERSION:2.0
BEGIN:VEVENT
UID:F9EF6132-3AC6-47EE-8ED2-99B34A3BE17A
DTSTART:20241004T180000Z
DTEND:20241004T210000Z
SUMMARY:CityLine LIVE featuring RCN Jazz Band
DESCRIPTION:CityLine LIVE is back in time for the fall season at CityLine i
 n Richardson. Tune in every Friday and Saturday for a lineup of local tale
 nt with various music genres that include pop\, rock\, blues\, county\, ja
 zz\, latin\, and so much more. From Sept. 6 through Oct. 28\, guests can e
 njoy the free outdoor music series from 6-9 p.m. in The Plaza. CityLine LI
 VE is BYOB\, dog-friendly and family-friendly.\nCityLine Plaza\n1150 State
  St\nDallas\, TX\, TX 75082 United States\n
LOCATION:1150 State St\, Dallas\, TX\, TX 75082
URL:http://addison.bubblelife.com/community/addison_calendar/library/356744
 01/key/3511803852/CityLine_LIVE_featuring_RCN_Jazz_Band
CREATED:20240821T215139Z
LAST-MODIFIED:20240821T215139Z
DTSTAMP:20260423T044716Z
CLASS:PUBLIC
STATUS:CONFIRMED
TRANSP:TRANSPARENT
SEQUENCE:1
END:VEVENT
END:VCALENDAR
