BEGIN:VCALENDAR
VERSION:2.0
BEGIN:VEVENT
UID:54ACCC3D-1C0F-4503-98E6-B03FD9CC3842
DTSTART:20240908T130000Z
DTEND:20240908T150000Z
SUMMARY:Grandparents Day Party at Galleria Dallas
DESCRIPTION:On Sunday\, Sept. 8\, The Senior Source and Galleria Dallas wil
 l celebrate Grandparents’ Day from 1-3 p.m. near the Children’s Play Place
  on Level 3. The party is free and open to the public. Enjoy readings of c
 hildren’s books by Senior Source volunteers on the hour and half-hour\, a
  photo booth with generational themes and photo props and a craft for chil
 dren to make with their grandparents. \n  \nSince its beginnings in 1961\,
  The Senior Source has helped aging adults in North Texas\, serving as a r
 esource\, protector and advocate. The Senior Source aims to spread its mes
 sage of fostering generations of impact through a new educational exhibit
  on Galleria Dallas’ Gallery Wall.\nGalleria Dallas\n13350 Dallas Parkway\
 nDallas\, TX\, TX 75240 United States\n
LOCATION:13350 Dallas Parkway\, Dallas\, TX\, TX 75240
URL:http://addison.bubblelife.com/community/addison_calendar/library/356744
 01/key/3511807334/Grandparents_Day_Party_at_Galleria_Dallas
CREATED:20240903T153952Z
LAST-MODIFIED:20240903T153952Z
DTSTAMP:20260423T044716Z
CLASS:PUBLIC
STATUS:CONFIRMED
TRANSP:TRANSPARENT
SEQUENCE:1
END:VEVENT
END:VCALENDAR
