BEGIN:VCALENDAR
VERSION:2.0
BEGIN:VEVENT
UID:066C4555-A2A9-4B5E-84C7-53A607C510FC
DTSTART:20241019T180000Z
DTEND:20241019T210000Z
SUMMARY:CityLine LIVE featuring Austin Staley
DESCRIPTION:CityLine LIVE is back in time for the fall season at CityLine i
 n Richardson. Tune in every Friday and Saturday for a lineup of local tale
 nt with various music genres that include pop\, rock\, blues\, county\, ja
 zz\, latin\, and so much more. From Sept. 6 through Oct. 28\, guests can e
 njoy the free outdoor music series from 6-9 p.m. in The Plaza. CityLine LI
 VE is BYOB\, dog-friendly and family-friendly.\nCityLine Plaza\n1150 State
  St\nDallas\, TX\, TX 75082 United States\n
LOCATION:1150 State St\, Dallas\, TX\, TX 75082
URL:http://addison.bubblelife.com/community/addison_calendar/library/356744
 01/key/3511807733/CityLine_LIVE_featuring_Austin_Staley
CREATED:20240830T212450Z
LAST-MODIFIED:20240830T212450Z
DTSTAMP:20260423T031144Z
CLASS:PUBLIC
STATUS:CONFIRMED
TRANSP:TRANSPARENT
SEQUENCE:1
END:VEVENT
END:VCALENDAR
