BEGIN:VCALENDAR
VERSION:2.0
BEGIN:VEVENT
UID:D2692F1D-4BFE-4DBC-AC3F-F542A7BD735A
DTSTART:20240912T110000Z
DTEND:20240912T120000Z
SUMMARY:Introduction to AI at Galleria Dallas
DESCRIPTION:The Senior Source will host an activation at Galleria Dallas to
  help seniors face one of their most challenging issues: technology. Intro
 duction to AI\, The Senior Source’s most popular summer course\, is a free
  hour-long session that teaches older adults what they need to know about
  AI\, including how to create images and art from text prompts. It will be
  held on Thursday\, Sept. 12 at 11 a.m. and Thursday\, Sept. 19 at 11 a.m.
  in the Party Room near Panda Express on Rink Level. \nSince its beginning
 s in 1961\, The Senior Source has helped aging adults in North Texas\, ser
 ving as a resource\, protector and advocate. The Senior Source aims to spr
 ead its message of fostering generations of impact through a new education
 al exhibit on Galleria Dallas’ Gallery Wall.\nGalleria Dallas\n13350 Dalla
 s Parkway\nDallas\, TX\, TX 75240 United States\n
LOCATION:13350 Dallas Parkway\, Dallas\, TX\, TX 75240
URL:http://addison.bubblelife.com/community/addison_calendar/library/356744
 01/key/3511807761/Introduction_to_AI_at_Galleria_Dallas
CREATED:20240903T153242Z
LAST-MODIFIED:20240903T153242Z
DTSTAMP:20260423T044716Z
CLASS:PUBLIC
STATUS:CONFIRMED
TRANSP:TRANSPARENT
SEQUENCE:1
END:VEVENT
END:VCALENDAR
