BEGIN:VCALENDAR
VERSION:2.0
BEGIN:VEVENT
UID:599629FF-8A9C-4221-9C31-3D7DA693CD73
DTSTART:20240928T180000Z
DTEND:20240928T210000Z
SUMMARY:CityLine LIVE featuring Taylor Lewis
DESCRIPTION:CityLine LIVE is back in time for the fall season at CityLine i
 n Richardson. Tune in every Friday and Saturday for a lineup of local tale
 nt with various music genres that include pop\, rock\, blues\, county\, ja
 zz\, latin\, and so much more. From Sept. 6 through Oct. 28\, guests can e
 njoy the free outdoor music series from 6-9 p.m. in The Plaza. CityLine LI
 VE is BYOB\, dog-friendly and family-friendly.\nCityLine Plaza\n1150 State
  St\nDallas\, TX\, TX 75082 United States\n
LOCATION:1150 State St\, Dallas\, TX\, TX 75082
URL:http://addison.bubblelife.com/community/addison_calendar/library/356744
 01/key/3511808841/CityLine_LIVE_featuring_Taylor_Lewis
CREATED:20240820T220303Z
LAST-MODIFIED:20240820T220303Z
DTSTAMP:20260423T044715Z
CLASS:PUBLIC
STATUS:CONFIRMED
TRANSP:TRANSPARENT
SEQUENCE:1
END:VEVENT
END:VCALENDAR
