BEGIN:VCALENDAR
VERSION:2.0
BEGIN:VEVENT
UID:DA987664-D560-48D7-B33E-A66F24B38994
DTSTART:20240920T180000Z
DTEND:20240920T210000Z
SUMMARY:CityLine LIVE featuring Helio Portales
DESCRIPTION:CityLine LIVE is back in time for the fall season at CityLine i
 n Richardson. Tune in every Friday and Saturday for a lineup of local tale
 nt with various music genres that include pop\, rock\, blues\, county\, ja
 zz\, latin\, and so much more. From Sept. 6 through Oct. 28\, guests can e
 njoy the free outdoor music series from 6-9 p.m. in The Plaza. CityLine LI
 VE is BYOB\, dog-friendly and family-friendly. \nIn celebration of the new
  season\, CityLine LIVE is introducing theme nights. Starting with Beach N
 ight on Sept. 6\, Latin Night on Sept. 20\, 90s Country Night on Oct. 11\,
  Alternative 90s Night on Oct. 12\, and Classic Rock Night on Oct. 25\, ea
 ch themed night will feature music tailored to the specific genre.\nCityLi
 ne Plaza\n1150 State St\nDallas\, TX\, TX 75082 United States\n
LOCATION:1150 State St\, Dallas\, TX\, TX 75082
URL:http://addison.bubblelife.com/community/addison_calendar/library/356744
 01/key/3511808852/CityLine_LIVE_featuring_Helio_Portales
CREATED:20240820T214802Z
LAST-MODIFIED:20240820T214802Z
DTSTAMP:20260423T044715Z
CLASS:PUBLIC
STATUS:CONFIRMED
TRANSP:TRANSPARENT
SEQUENCE:1
END:VEVENT
END:VCALENDAR
