BEGIN:VCALENDAR
VERSION:2.0
BEGIN:VEVENT
UID:FF1D68AB-6FFD-472A-9C08-90B4CAFD0F98
DTSTART:20240906T180000Z
DTEND:20240906T210000Z
SUMMARY:CityLine LIVE Featuring Jimmy Barcus (Beach Theme
DESCRIPTION:CityLine LIVE is back in time for the fall season at CityLine i
 n Richardson. Tune in every Friday and Saturday for a lineup of local tale
 nt with various music genres that include pop\, rock\, blues\, county\, ja
 zz\, latin\, and so much more. From Sept. 6 through Oct. 28\, guests can e
 njoy the free outdoor music series from 6-9 p.m. in The Plaza. CityLine LI
 VE is BYOB\, dog-friendly and family-friendly. \nIn celebration of the new
  season\, CityLine LIVE is introducing theme nights. Starting with Beach N
 ight on Sept. 6\, Latin Night on Sept. 20\, 90s Country Night on Oct. 11\,
  Alternative 90s Night on Oct. 12\, and Classic Rock Night on Oct. 25\, ea
 ch themed night will feature music tailored to the specific genre.\nCityLi
 ne Plaza\n1150 State St\nDallas\, TX\, TX 75082 United States\n
LOCATION:1150 State St\, Dallas\, TX\, TX 75082
URL:http://addison.bubblelife.com/community/addison_calendar/library/356744
 01/key/3511808880/CityLine_LIVE_Featuring_Jimmy_Barcus_Beach_Theme
CREATED:20240820T213547Z
LAST-MODIFIED:20240820T213547Z
DTSTAMP:20260423T044715Z
CLASS:PUBLIC
STATUS:CONFIRMED
TRANSP:TRANSPARENT
SEQUENCE:1
END:VEVENT
END:VCALENDAR
