BEGIN:VCALENDAR
VERSION:2.0
BEGIN:VEVENT
UID:1E598D81-F0E9-495C-A3BC-5A9DB6E19CD8
DTSTART:20241025T180000Z
DTEND:20241025T210000Z
SUMMARY:CityLine LIVE featuring Jonan Rigsbee
DESCRIPTION:CityLine LIVE is back in time for the fall season at CityLine i
 n Richardson. Tune in every Friday and Saturday for a lineup of local tale
 nt with various music genres that include pop\, rock\, blues\, county\, ja
 zz\, latin\, and so much more. From Sept. 6 through Oct. 28\, guests can e
 njoy the free outdoor music series from 6-9 p.m. in The Plaza. CityLine LI
 VE is BYOB\, dog-friendly and family-friendly. \nIn celebration of the new
  season\, CityLine LIVE is introducing theme nights. Starting with Beach N
 ight on Sept. 6\, Latin Night on Sept. 20\, 90s Country Night on Oct. 11\,
  Alternative 90s Night on Oct. 12\, and Classic Rock Night on Oct. 25 \, e
 ach themed night will feature music tailored to the specific genre.\nCityL
 ine Plaza\n1150 State St\nDallas\, TX\, TX 75082 United States\n
LOCATION:1150 State St\, Dallas\, TX\, TX 75082
URL:http://addison.bubblelife.com/community/addison_calendar/library/356744
 01/key/3511824440/CityLine_LIVE_featuring_Jonan_Rigsbee
CREATED:20240830T212134Z
LAST-MODIFIED:20240830T212134Z
DTSTAMP:20260423T031051Z
CLASS:PUBLIC
STATUS:CONFIRMED
TRANSP:TRANSPARENT
SEQUENCE:1
END:VEVENT
END:VCALENDAR
