BEGIN:VCALENDAR
VERSION:2.0
BEGIN:VEVENT
UID:BC6927D6-A221-420D-AB29-6FD618CEF9C5
DTSTART:20240926T150000Z
DTEND:20240926T220000Z
SUMMARY:Football Season Specials at Barrel & Bones
DESCRIPTION:The NFL season is here and Barrel & Bones\, North Texas’ favori
 te craft smokehouse\, has plenty for customers to cheer about all season l
 ong. \nStarting Sept. 5\, join Barrel & Bones for unbeatable game-day spec
 ials\, including $3 wells\, $3.50 domestics\, $5 craft beers\, $5 Crown &
  Downs and tea shots\, and a $6 bites menu. Customers can snack on fan fav
 orites including pretzel bites\, fried pickles\, cheese curds\, crispy fri
 ed green beans and fried mac & cheese. \nFor the Crown & Down selections\,
  choose from top-shelf options like Deep Eddy (all flavors)\, Jameson and
  Jameson Orange\, tea shots\, Tito’s\, Jäger\, Rumple\, Espolòn\, and Bird
  Dog Peanut Butter. \nThese specials are available all day on Sundays and
  for Monday and Thursday night football from 3 p.m. to close. \nParticipat
 ing locations include \n Dallas \n12300 Inwood Road\, Suite 130 \nDallas\,
  TX 75244 \n469-324-4862 \n  \n Carrollton \n1011 S. Main\, Suite 110 \nCa
 rrollton\, TX 75006 \n469-848-8333 \n  \n The Colony \n2801 Plano Parkway\
 , Suite 140 \nThe Colony\, TX\, 75056 \n469-353-8810 \n  \n Farmers Branch
  \n1980 LBJ Freeway \nFarmers Branch\, TX 75234 \n214-778-3769\nBarrel & B
 ones\n12300 Inwood Road\, Suite 130\nDallas\, TX 75244 United States\n
LOCATION:12300 Inwood Road\, Suite 130\, Dallas\, TX 75244
URL:http://addison.bubblelife.com/community/addison_calendar/library/356744
 01/key/3511827224/Football_Season_Specials_at_Barrel_Bones
CREATED:20240909T153350Z
LAST-MODIFIED:20240909T153350Z
DTSTAMP:20260423T044740Z
CLASS:PUBLIC
STATUS:CONFIRMED
TRANSP:TRANSPARENT
SEQUENCE:1
END:VEVENT
END:VCALENDAR
