BEGIN:VCALENDAR
VERSION:2.0
BEGIN:VEVENT
UID:700DF4ED-A438-4689-9B6C-0493CC8FCF08
DTSTART:20240907T110000Z
DTEND:20240907T130000Z
SUMMARY:Little Designers in the PGA District
DESCRIPTION:Head to the Monument Realty PGA District for a family-friendly
  craft brought to you by Playful Kids Club. Kids will decorate a fall wrea
 th to kick off the season. This is a come-and-go event and adult supervisi
 on is required. \nThe event is $15 per child. Early registration is recomm
 ended and can be done at https://www.eventbrite.com/e/little-designers-in-
 the-district-with-playful-kids-club-fall-wreaths-tickets-951689939227\nOmn
 i PGA Frisco\n3225 PGA Parkway\nFrisco\, TX 75033 United States\n
LOCATION:3225 PGA Parkway\, Frisco\, TX 75033
URL:http://addison.bubblelife.com/community/addison_calendar/library/356744
 01/key/3511827230/Little_Designers_in_the_PGA_District
CREATED:20240909T153044Z
LAST-MODIFIED:20240909T153044Z
DTSTAMP:20260423T044740Z
CLASS:PUBLIC
STATUS:CONFIRMED
TRANSP:TRANSPARENT
SEQUENCE:1
END:VEVENT
END:VCALENDAR
